BEGIN:VCALENDAR
VERSION:2.0
PRODID:-//Focales
CALSCALE:GREGORIAN
METHOD:PUBLISH
X-WR-CALNAME:Focales
X-ORIGINAL-URL:https://focales.org/atelier-doublage-3/
X-WR-CALDESC:ATELIER DOUBLAGE
BEGIN:VEVENT
DTSTART:20180223T150000
DTEND:20180223T170000
SUMMARY:ATELIER DOUBLAGE
DESCRIPTION:
LOCATION:médiathèque Amélie Murat de Chamalières
END:VEVENT
END:VCALENDAR
