BEGIN:VCALENDAR
VERSION:2.0
PRODID:-//Focales
CALSCALE:GREGORIAN
METHOD:PUBLISH
X-WR-CALNAME:Focales
X-ORIGINAL-URL:https://focales.org/atelier-valise-animee/
X-WR-CALDESC:ATELIER VALISE ANIMÉE
BEGIN:VEVENT
DTSTART:20180220T143000
DTEND:20180220T163000
SUMMARY:ATELIER VALISE ANIMÉE
DESCRIPTION:
LOCATION:https://www.google.fr/maps?client=safari&rls=en&oe=UTF-8&gfe_rd=cr&dcr=0&q=médiathèque+jacques+prévert&um=1&ie=UTF-8&sa=X&ved=0ahUKEwil2-Gs64TZAhWBtRQKHW1RBdQQ_AUICigB
END:VEVENT
END:VCALENDAR
