BEGIN:VCALENDAR
VERSION:2.0
PRODID:-//Focales
CALSCALE:GREGORIAN
METHOD:PUBLISH
X-WR-CALNAME:Focales
X-ORIGINAL-URL:https://focales.org/atelier-valises-animees-5/
X-WR-CALDESC:ATELIER VALISES ANIMÉES
BEGIN:VEVENT
DTSTART:20170222T143000
DTEND:20170222T163000
SUMMARY:ATELIER VALISES ANIMÉES
DESCRIPTION:
LOCATION:Médiathèque Aimé Césaire, Blanzat
END:VEVENT
END:VCALENDAR
