BEGIN:VCALENDAR
VERSION:2.0
PRODID:-//Focales
CALSCALE:GREGORIAN
METHOD:PUBLISH
X-WR-CALNAME:Focales
X-ORIGINAL-URL:https://focales.org/atelier-doublage-4/
X-WR-CALDESC:ATELIER DOUBLAGE
BEGIN:VEVENT
DTSTART:20180221T150000
DTEND:20180221T170000
SUMMARY:ATELIER DOUBLAGE
DESCRIPTION:
LOCATION:https://www.google.fr/maps?client=safari&rls=en&oe=UTF-8&gfe_rd=cr&dcr=0&q=médiathèque+de+cournon&um=1&ie=UTF-8&sa=X&ved=0ahUKEwj54JqN7oTZAhXIaxQKHU3-COsQ_AUICigB
END:VEVENT
END:VCALENDAR
