BEGIN:VCALENDAR
VERSION:2.0
PRODID:-//Focales
CALSCALE:GREGORIAN
METHOD:PUBLISH
X-WR-CALNAME:Focales
X-ORIGINAL-URL:https://focales.org/dragons-2-thiers/
X-WR-CALDESC:DRAGONS 2
BEGIN:VEVENT
DTSTART:20150730T220000
DTEND:
SUMMARY:DRAGONS 2
DESCRIPTION:
LOCATION:45.8444131 3.5326386
END:VEVENT
END:VCALENDAR
