BEGIN:VCALENDAR
VERSION:2.0
PRODID:-//Focales
CALSCALE:GREGORIAN
METHOD:PUBLISH
X-WR-CALNAME:Focales
X-ORIGINAL-URL:https://focales.org/atelier-flip-book-3/
X-WR-CALDESC:ATELIER FLIP BOOK
BEGIN:VEVENT
DTSTART:20180210T143000
DTEND:20180210T173000
SUMMARY:ATELIER FLIP BOOK
DESCRIPTION:
LOCATION:https://www.google.fr/maps?client=safari&rls=en&q=Médiathèque+Rêve+et+Savoir,+Aulnat&oe=UTF-8&gfe_rd=cr&dcr=0&um=1&ie=UTF-8&sa=X&ved=0ahUKEwjCjN3o8ITZAhUCWRQKHeUfDA0Q_AUICigB
END:VEVENT
END:VCALENDAR
