BEGIN:VCALENDAR
VERSION:2.0
PRODID:-//Focales
CALSCALE:GREGORIAN
METHOD:PUBLISH
X-WR-CALNAME:Focales
X-ORIGINAL-URL:https://focales.org/conference-de-marie-paccou-sur-les-flip-books/
X-WR-CALDESC:CONFÉRENCE DE MARIE PACCOU SUR LES FLIP-BOOKS
BEGIN:VEVENT
DTSTART:20180323T170000
DTEND:20180323T174500
SUMMARY:CONFÉRENCE DE MARIE PACCOU SUR LES FLIP-BOOKS
DESCRIPTION:
LOCATION:https://www.google.fr/maps/place/Espace+Renoir/@46.038295,4.0670733,17z/data=!3m1!4b1!4m5!3m4!1s0x47f40f6646f4d89d:0x9d1816334e71e681!8m2!3d46.038295!4d4.069262?dcr=0
END:VEVENT
END:VCALENDAR
