BEGIN:VCALENDAR
VERSION:2.0
PRODID:-//Focales
CALSCALE:GREGORIAN
METHOD:PUBLISH
X-WR-CALNAME:Focales
X-ORIGINAL-URL:https://focales.org/ateliers-flip-books-par-marie-paccou/
X-WR-CALDESC:ATELIERS FLIP-BOOKS PAR MARIE PACCOU
BEGIN:VEVENT
DTSTART:20180324T140000
DTEND:20180325T173000
SUMMARY:ATELIERS FLIP-BOOKS PAR MARIE PACCOU
DESCRIPTION:
LOCATION:https://www.google.fr/maps/place/Musée+des+beaux-arts+et+d'archéologie+Joseph-Déchelette/@46.035124,4.0670795,17z/data=!3m1!4b1!4m5!3m4!1s0x47f40f658ebcfcc9:0x156e98ce295c925b!8m2!3d46.035124!4d4.0692682?dcr=0
END:VEVENT
END:VCALENDAR
