BEGIN:VCALENDAR
VERSION:2.0
PRODID:-//Focales
CALSCALE:GREGORIAN
METHOD:PUBLISH
X-WR-CALNAME:Focales
X-ORIGINAL-URL:https://focales.org/projection-animation-jeune-public/
X-WR-CALDESC:PROJECTION ANIMATION JEUNE PUBLIC
BEGIN:VEVENT
DTSTART:20180303T150000
DTEND:20180303T170000
SUMMARY:PROJECTION ANIMATION JEUNE PUBLIC
DESCRIPTION:
LOCATION:https://www.google.fr/maps?client=safari&rls=en&q=Cinéma+la+Capitelle,+Monistrol-sur-Loire&oe=UTF-8&gfe_rd=cr&dcr=0&um=1&ie=UTF-8&sa=X&ved=0ahUKEwjIgseV3bHZAhVEbhQKHdMECDUQ_AUICigB
END:VEVENT
END:VCALENDAR
