BEGIN:VCALENDAR
VERSION:2.0
PRODID:-//Focales
CALSCALE:GREGORIAN
METHOD:PUBLISH
X-WR-CALNAME:Focales
X-ORIGINAL-URL:https://focales.org/rio-2-clermont-ferrand-2/
X-WR-CALDESC:RIO 2
BEGIN:VEVENT
DTSTART:20150731T220000
DTEND:20150731T234200
SUMMARY:RIO 2
DESCRIPTION:
LOCATION:45.8144844 3.1248311
END:VEVENT
END:VCALENDAR
