BEGIN:VCALENDAR
VERSION:2.0
PRODID:-//Focales
CALSCALE:GREGORIAN
METHOD:PUBLISH
X-WR-CALNAME:Focales
X-ORIGINAL-URL:https://focales.org/formation-comment-se-sensibiliser-au-langage-cinematographique/
X-WR-CALDESC:Formation comment se sensibiliser au langage cinématographique
BEGIN:VEVENT
DTSTART:20180503T090000
DTEND:20180504T170000
SUMMARY:Formation comment se sensibiliser au langage cinématographique
DESCRIPTION:
LOCATION:La Jetée, Clermont-Ferrand
END:VEVENT
END:VCALENDAR
