BEGIN:VCALENDAR
VERSION:2.0
PRODID:-//Focales
CALSCALE:GREGORIAN
METHOD:PUBLISH
X-WR-CALNAME:Focales
X-ORIGINAL-URL:https://focales.org/auzat-lauvergnat-en-presence-du-realisateur/
X-WR-CALDESC:Auzat l&rsquo;Auvergnat, en présence du réalisateur
BEGIN:VEVENT
DTSTART:20180316T204500
DTEND:20180316T230000
SUMMARY:Auzat l&rsquo;Auvergnat, en présence du réalisateur
DESCRIPTION:
LOCATION:cinéma Capitole, Clermont-Ferrand
END:VEVENT
END:VCALENDAR
