BEGIN:VCALENDAR
VERSION:2.0
PRODID:-//Focales
CALSCALE:GREGORIAN
METHOD:PUBLISH
X-WR-CALNAME:Focales
X-ORIGINAL-URL:https://focales.org/cours-particuliers-junior-de-julia-ducournau/
X-WR-CALDESC:Cours Particuliers : Junior de Julia Ducournau
BEGIN:VEVENT
DTSTART:20180322T180000
DTEND:20180322T190000
SUMMARY:Cours Particuliers : Junior de Julia Ducournau
DESCRIPTION:
LOCATION:La Jetée, Clermont-Ferrand
END:VEVENT
END:VCALENDAR
