BEGIN:VCALENDAR
VERSION:2.0
PRODID:-//Focales
CALSCALE:GREGORIAN
METHOD:PUBLISH
X-WR-CALNAME:Focales
X-ORIGINAL-URL:https://focales.org/videoformes-2018/
X-WR-CALDESC:VIDEOFORMES
BEGIN:VEVENT
DTSTART:20180314T173000
DTEND:20180331T190000
SUMMARY:VIDEOFORMES
DESCRIPTION:
LOCATION:Maison de la Culture, Clermont-Ferrand
END:VEVENT
END:VCALENDAR
