BEGIN:VCALENDAR
VERSION:2.0
PRODID:-//Focales
CALSCALE:GREGORIAN
METHOD:PUBLISH
X-WR-CALNAME:Focales
X-ORIGINAL-URL:https://focales.org/la-priere-en-presence-de-emmanuel-thomas/
X-WR-CALDESC:LA PRIERE EN PRESENCE DE EMMANUEL THOMAS
BEGIN:VEVENT
DTSTART:20180406T133000
DTEND:20180407T223000
SUMMARY:LA PRIERE EN PRESENCE DE EMMANUEL THOMAS
DESCRIPTION:
LOCATION:
END:VEVENT
END:VCALENDAR
