BEGIN:VCALENDAR
VERSION:2.0
PRODID:-//Focales
CALSCALE:GREGORIAN
METHOD:PUBLISH
X-WR-CALNAME:Focales
X-ORIGINAL-URL:https://focales.org/cours-particuliers-le-couloir-par-antoine-lopez/
X-WR-CALDESC:Courts Particuliers : Le couloir par Antoine Lopez
BEGIN:VEVENT
DTSTART:20180426T180000
DTEND:20180426T190000
SUMMARY:Courts Particuliers : Le couloir par Antoine Lopez
DESCRIPTION:
LOCATION:La Jetée, Clermont-Ferrand
END:VEVENT
END:VCALENDAR
