BEGIN:VCALENDAR
VERSION:2.0
PRODID:-//Focales
CALSCALE:GREGORIAN
METHOD:PUBLISH
X-WR-CALNAME:Focales
X-ORIGINAL-URL:https://focales.org/la-peur-petit-chasseur-par-gilles-berger/
X-WR-CALDESC:LA PEUR PETIT CHASSEUR PAR GILLES BERGER
BEGIN:VEVENT
DTSTART:20180517T180000
DTEND:20180517T190000
SUMMARY:LA PEUR PETIT CHASSEUR PAR GILLES BERGER
DESCRIPTION:
LOCATION:La Jetée, Clermont-Ferrand
END:VEVENT
END:VCALENDAR
