BEGIN:VCALENDAR
VERSION:2.0
PRODID:-//Focales
CALSCALE:GREGORIAN
METHOD:PUBLISH
X-WR-CALNAME:Focales
X-ORIGINAL-URL:https://focales.org/cours-particulier-journal-par-jerome-peyrel/
X-WR-CALDESC:COURS PARTICULIER JOURNAL PAR JEROME PEYREL
BEGIN:VEVENT
DTSTART:20180614T180000
DTEND:20180614T190000
SUMMARY:COURS PARTICULIER JOURNAL PAR JEROME PEYREL
DESCRIPTION:
LOCATION:La Jetée, Clermont-Ferrand
END:VEVENT
END:VCALENDAR
