BEGIN:VCALENDAR
VERSION:2.0
PRODID:-//Focales
CALSCALE:GREGORIAN
METHOD:PUBLISH
X-WR-CALNAME:Focales
X-ORIGINAL-URL:https://focales.org/letrange-festival-presentee-par-frederic-temps/
X-WR-CALDESC:L&rsquo;ETRANGE FESTIVAL PRESENTE PAR FREDERIC TEMPS
BEGIN:VEVENT
DTSTART:20180403T203000
DTEND:20180403T234500
SUMMARY:L&rsquo;ETRANGE FESTIVAL PRESENTE PAR FREDERIC TEMPS
DESCRIPTION:
LOCATION:Amphi Varda, Clermont-Ferrand
END:VEVENT
END:VCALENDAR
