BEGIN:VCALENDAR
VERSION:2.0
PRODID:-//Focales
CALSCALE:GREGORIAN
METHOD:PUBLISH
X-WR-CALNAME:Focales
X-ORIGINAL-URL:https://focales.org/etudiant-lavenir-a-credit-en-presence-du-realisateur/
X-WR-CALDESC:ETUDIANT, L&rsquo;AVENIR A CREDIT EN PRESENCE DU REALISATEUR
BEGIN:VEVENT
DTSTART:20180404T191500
DTEND:20180404T220000
SUMMARY:ETUDIANT, L&rsquo;AVENIR A CREDIT EN PRESENCE DU REALISATEUR
DESCRIPTION:
LOCATION:amphi Varda, Clermont-Ferrand
END:VEVENT
END:VCALENDAR
