BEGIN:VCALENDAR
VERSION:2.0
PRODID:-//Focales
CALSCALE:GREGORIAN
METHOD:PUBLISH
X-WR-CALNAME:Focales
X-ORIGINAL-URL:https://focales.org/mary-poppins-moulins/
X-WR-CALDESC:MARY POPPINS
BEGIN:VEVENT
DTSTART:20150801T220000
DTEND:20150802T001400
SUMMARY:MARY POPPINS
DESCRIPTION:
LOCATION:46.5646930 3.3308956
END:VEVENT
END:VCALENDAR
