BEGIN:VCALENDAR
VERSION:2.0
PRODID:-//Focales
CALSCALE:GREGORIAN
METHOD:PUBLISH
X-WR-CALNAME:Focales
X-ORIGINAL-URL:https://focales.org/les-nuits-de-la-baleine/
X-WR-CALDESC:LES NUITS DE LA BALEINE
BEGIN:VEVENT
DTSTART:20180425T160000
DTEND:20180426T233000
SUMMARY:LES NUITS DE LA BALEINE
DESCRIPTION:
LOCATION:Amphi Varda, Clermont-Ferrand
END:VEVENT
END:VCALENDAR
