BEGIN:VCALENDAR
VERSION:2.0
PRODID:-//Focales
CALSCALE:GREGORIAN
METHOD:PUBLISH
X-WR-CALNAME:Focales
X-ORIGINAL-URL:https://focales.org/eloge-des-mils-lheritage-africain-en-presence-du-realisateur/
X-WR-CALDESC:ELOGE DES MILS, L&rsquo;HERITAGE AFRICAIN EN PRESENCE DU REALISATEUR
BEGIN:VEVENT
DTSTART:20180406T210000
DTEND:20180406T233000
SUMMARY:ELOGE DES MILS, L&rsquo;HERITAGE AFRICAIN EN PRESENCE DU REALISATEUR
DESCRIPTION:
LOCATION:La grange à palabres, Tailhac
END:VEVENT
END:VCALENDAR
