BEGIN:VCALENDAR
VERSION:2.0
PRODID:-//Focales
CALSCALE:GREGORIAN
METHOD:PUBLISH
X-WR-CALNAME:Focales
X-ORIGINAL-URL:https://focales.org/barrique-instinct-en-presence-des-realisateurs/
X-WR-CALDESC:BARRIQUE INSTINCT, EN PRESENCE DES REALISATEURS
BEGIN:VEVENT
DTSTART:20180601T210000
DTEND:20180601T233000
SUMMARY:BARRIQUE INSTINCT, EN PRESENCE DES REALISATEURS
DESCRIPTION:
LOCATION:La grange à palabres, Tailhac
END:VEVENT
END:VCALENDAR
