BEGIN:VCALENDAR
VERSION:2.0
PRODID:-//Focales
CALSCALE:GREGORIAN
METHOD:PUBLISH
X-WR-CALNAME:Focales
X-ORIGINAL-URL:https://focales.org/formation-alien-de-ridley-scott/
X-WR-CALDESC:FORMATION ALIEN DE RIDLEY SCOTT
BEGIN:VEVENT
DTSTART:20190115T090000
DTEND:20190116T170000
SUMMARY:FORMATION ALIEN DE RIDLEY SCOTT
DESCRIPTION:
LOCATION:Clermont-Ferrand, la Jetée
END:VEVENT
END:VCALENDAR
