BEGIN:VCALENDAR
VERSION:2.0
PRODID:-//Focales
CALSCALE:GREGORIAN
METHOD:PUBLISH
X-WR-CALNAME:Focales
X-ORIGINAL-URL:https://focales.org/volver-place-victoire-clermont-contresplongees/
X-WR-CALDESC:VOLVER
BEGIN:VEVENT
DTSTART:20150728T213000
DTEND:20150728T233100
SUMMARY:VOLVER
DESCRIPTION:
LOCATION:Place de la victoire - Clermont-Ferrand
END:VEVENT
END:VCALENDAR
