BEGIN:VCALENDAR
VERSION:2.0
PRODID:-//Focales
CALSCALE:GREGORIAN
METHOD:PUBLISH
X-WR-CALNAME:Focales
X-ORIGINAL-URL:https://focales.org/17e-rencontres-des-acteurs-de-leducation-a-limage/
X-WR-CALDESC:17e RENCONTRES DES ACTEURS DE L&rsquo;ÉDUCATION AUX IMAGES
BEGIN:VEVENT
DTSTART:20180625T093000
DTEND:20180629T120000
SUMMARY:17e RENCONTRES DES ACTEURS DE L&rsquo;ÉDUCATION AUX IMAGES
DESCRIPTION:
LOCATION:La Jetée - Clermont-Ferrand
END:VEVENT
END:VCALENDAR
