BEGIN:VCALENDAR
VERSION:2.0
PRODID:-//Focales
CALSCALE:GREGORIAN
METHOD:PUBLISH
X-WR-CALNAME:Focales
X-ORIGINAL-URL:https://focales.org/balade-dans-lhistoire-du-cinema-danimation-par-antoine-lopez/
X-WR-CALDESC:BALADE DANS L&rsquo;HISTOIRE DU CINEMA D&rsquo;ANIMATION PAR ANTOINE LOPEZ
BEGIN:VEVENT
DTSTART:20180531T090000
DTEND:20180601T170000
SUMMARY:BALADE DANS L&rsquo;HISTOIRE DU CINEMA D&rsquo;ANIMATION PAR ANTOINE LOPEZ
DESCRIPTION:
LOCATION:La Jetée, Clermont-Ferrand
END:VEVENT
END:VCALENDAR
