BEGIN:VCALENDAR
VERSION:2.0
PRODID:-//Focales
CALSCALE:GREGORIAN
METHOD:PUBLISH
X-WR-CALNAME:Focales
X-ORIGINAL-URL:https://focales.org/pierre-tu-trembles-en-presence-des-realisateurs/
X-WR-CALDESC:PIERRE, TU TREMBLES, EN PRESENCE DES REALISATEURS
BEGIN:VEVENT
DTSTART:20180502T203000
DTEND:20180516T230000
SUMMARY:PIERRE, TU TREMBLES, EN PRESENCE DES REALISATEURS
DESCRIPTION:
LOCATION:
END:VEVENT
END:VCALENDAR
