BEGIN:VCALENDAR
VERSION:2.0
PRODID:-//Focales
CALSCALE:GREGORIAN
METHOD:PUBLISH
X-WR-CALNAME:Focales
X-ORIGINAL-URL:https://focales.org/le-fond-de-lair-est-rouge-en-presence-de-georges-bollon/
X-WR-CALDESC:LE FOND DE L&rsquo;AIR EST ROUGE EN PRESENCE DE GEORGES BOLLON
BEGIN:VEVENT
DTSTART:20180517T190000
DTEND:20180517T230000
SUMMARY:LE FOND DE L&rsquo;AIR EST ROUGE EN PRESENCE DE GEORGES BOLLON
DESCRIPTION:
LOCATION:Cinéma le rio, Clermont-Ferrand
END:VEVENT
END:VCALENDAR
