BEGIN:VCALENDAR
VERSION:2.0
PRODID:-//Focales
CALSCALE:GREGORIAN
METHOD:PUBLISH
X-WR-CALNAME:Focales
X-ORIGINAL-URL:https://focales.org/equateur-mon-pouvoir-dans-la-constitution-en-presence-du-realisateur/
X-WR-CALDESC:EQUATEUR, MON POUVOIR DANS LA CONSTITUTION EN PRESENCE DU REALISATEUR
BEGIN:VEVENT
DTSTART:20180504T200000
DTEND:20180504T223000
SUMMARY:EQUATEUR, MON POUVOIR DANS LA CONSTITUTION EN PRESENCE DU REALISATEUR
DESCRIPTION:
LOCATION:Cinéma le Rio, Clermont-Ferrand
END:VEVENT
END:VCALENDAR
