BEGIN:VCALENDAR
VERSION:2.0
PRODID:-//Focales
CALSCALE:GREGORIAN
METHOD:PUBLISH
X-WR-CALNAME:Focales
X-ORIGINAL-URL:https://focales.org/vivre-ensemble-dans-et-hors-du-college/
X-WR-CALDESC:VIVRE ENSEMBLE DANS ET HORS DU COLLEGE
BEGIN:VEVENT
DTSTART:20180502T090000
DTEND:20180531T180000
SUMMARY:VIVRE ENSEMBLE DANS ET HORS DU COLLEGE
DESCRIPTION:
LOCATION:Espace Nelson Mandela, Clermont-Ferrand
END:VEVENT
END:VCALENDAR
