BEGIN:VCALENDAR
VERSION:2.0
PRODID:-//Focales
CALSCALE:GREGORIAN
METHOD:PUBLISH
X-WR-CALNAME:Focales
X-ORIGINAL-URL:https://focales.org/atelier-light-painting-roanne/
X-WR-CALDESC:ATELIER LIGHT PAINTING
BEGIN:VEVENT
DTSTART:20180519T203000
DTEND:20180519T223000
SUMMARY:ATELIER LIGHT PAINTING
DESCRIPTION:
LOCATION:Musée de Beaux-Arts et d'Archéologie, Roanne
END:VEVENT
END:VCALENDAR
