BEGIN:VCALENDAR
VERSION:2.0
PRODID:-//Focales
CALSCALE:GREGORIAN
METHOD:PUBLISH
X-WR-CALNAME:Focales
X-ORIGINAL-URL:https://focales.org/journee-fake-news/
X-WR-CALDESC:JOURNEE FAKE NEWS
BEGIN:VEVENT
DTSTART:20180612T090000
DTEND:20180612T170000
SUMMARY:JOURNEE FAKE NEWS
DESCRIPTION:
LOCATION:L'Atrium, Thiers
END:VEVENT
END:VCALENDAR
