BEGIN:VCALENDAR
VERSION:2.0
PRODID:-//Focales
CALSCALE:GREGORIAN
METHOD:PUBLISH
X-WR-CALNAME:Focales
X-ORIGINAL-URL:https://focales.org/concours-video-courts-de-sciences/
X-WR-CALDESC:CONCOURS VIDEO COURTS DE SCIENCES
BEGIN:VEVENT
DTSTART:20180514T000000
DTEND:20180630T234500
SUMMARY:CONCOURS VIDEO COURTS DE SCIENCES
DESCRIPTION:
LOCATION:
END:VEVENT
END:VCALENDAR
