BEGIN:VCALENDAR
VERSION:2.0
PRODID:-//Focales
CALSCALE:GREGORIAN
METHOD:PUBLISH
X-WR-CALNAME:Focales
X-ORIGINAL-URL:https://focales.org/le-sel-de-la-terre-au-parccoasis/
X-WR-CALDESC:LE SEL DE LA TERRE AU PARCC&rsquo;OASIS
BEGIN:VEVENT
DTSTART:20180602T190000
DTEND:20180602T220000
SUMMARY:LE SEL DE LA TERRE AU PARCC&rsquo;OASIS
DESCRIPTION:
LOCATION:Parcc'Oasis
END:VEVENT
END:VCALENDAR
