BEGIN:VCALENDAR
VERSION:2.0
PRODID:-//Focales
CALSCALE:GREGORIAN
METHOD:PUBLISH
X-WR-CALNAME:Focales
X-ORIGINAL-URL:https://focales.org/lanternes-magiques-et-fantasmagories/
X-WR-CALDESC:LANTERNES MAGIQUES ET FANTASMAGORIES
BEGIN:VEVENT
DTSTART:20180916T101500
DTEND:20190505T183000
SUMMARY:LANTERNES MAGIQUES ET FANTASMAGORIES
DESCRIPTION:
LOCATION:Château de Villeneuve-Lembron
END:VEVENT
END:VCALENDAR
