BEGIN:VCALENDAR
VERSION:2.0
PRODID:-//Focales
CALSCALE:GREGORIAN
METHOD:PUBLISH
X-WR-CALNAME:Focales
X-ORIGINAL-URL:https://focales.org/le-sous-bois-des-insenses-en-presence-de-martine-deyres/
X-WR-CALDESC:LE SOUS BOIS DES INSENSES EN PRESENCE DE MARTINE DEYRES
BEGIN:VEVENT
DTSTART:20180611T200000
DTEND:20180611T230000
SUMMARY:LE SOUS BOIS DES INSENSES EN PRESENCE DE MARTINE DEYRES
DESCRIPTION:
LOCATION:Cinéma Le Rio
END:VEVENT
END:VCALENDAR
