BEGIN:VCALENDAR
VERSION:2.0
PRODID:-//Focales
CALSCALE:GREGORIAN
METHOD:PUBLISH
X-WR-CALNAME:Focales
X-ORIGINAL-URL:https://focales.org/journee-unis-cite-cinema-et-citoyennete/
X-WR-CALDESC:JOURNEE UNIS CITE &#8211; CINEMA ET CITOYENNETE
BEGIN:VEVENT
DTSTART:20180607T093000
DTEND:20180607T160000
SUMMARY:JOURNEE UNIS CITE &#8211; CINEMA ET CITOYENNETE
DESCRIPTION:
LOCATION:La Jetée, 6 Place Michel-de-l'Hospital, 63058 Clermont-Ferrand
END:VEVENT
END:VCALENDAR
