BEGIN:VCALENDAR
VERSION:2.0
PRODID:-//Focales
CALSCALE:GREGORIAN
METHOD:PUBLISH
X-WR-CALNAME:Focales
X-ORIGINAL-URL:https://focales.org/projection-films-doption-cinema-blaise-pascal/
X-WR-CALDESC:PROJECTION &#8211; FILMS D&rsquo;OPTION CINEMA BLAISE PASCAL
BEGIN:VEVENT
DTSTART:20180606T180000
DTEND:20180606T200000
SUMMARY:PROJECTION &#8211; FILMS D&rsquo;OPTION CINEMA BLAISE PASCAL
DESCRIPTION:
LOCATION:La Jetée, 6 Place Michel-de-l'Hospital, 63058 Clermont-Ferrand
END:VEVENT
END:VCALENDAR
