BEGIN:VCALENDAR
VERSION:2.0
PRODID:-//Focales
CALSCALE:GREGORIAN
METHOD:PUBLISH
X-WR-CALNAME:Focales
X-ORIGINAL-URL:https://focales.org/ex-machina-cycle-homme-machine/
X-WR-CALDESC:EX-MACHINA &#8211; CYCLE HOMME &#038; MACHINE
BEGIN:VEVENT
DTSTART:20180612T190000
DTEND:20180612T230000
SUMMARY:EX-MACHINA &#8211; CYCLE HOMME &#038; MACHINE
DESCRIPTION:
LOCATION:Cinéma La Capitelle, 2 boulevard François Mitterrand, 43120 Monistrol sur Loire
END:VEVENT
END:VCALENDAR
