BEGIN:VCALENDAR
VERSION:2.0
PRODID:-//Focales
CALSCALE:GREGORIAN
METHOD:PUBLISH
X-WR-CALNAME:Focales
X-ORIGINAL-URL:https://focales.org/week-end-lyceens-et-apprentis-au-cinema/
X-WR-CALDESC:WEEK-END DE VISIONNEMENT DES FILMS LYCEENS ET APPRENTIS AU CINEMA AUVERGNE-RHONE-ALPES 2018/2019
BEGIN:VEVENT
DTSTART:20180609T090000
DTEND:20180610T200000
SUMMARY:WEEK-END DE VISIONNEMENT DES FILMS LYCEENS ET APPRENTIS AU CINEMA AUVERGNE-RHONE-ALPES 2018/2019
DESCRIPTION:
LOCATION:Institut Lumière, 25 rue Premier Film, 69008 Lyon
END:VEVENT
END:VCALENDAR
