BEGIN:VCALENDAR
VERSION:2.0
PRODID:-//Focales
CALSCALE:GREGORIAN
METHOD:PUBLISH
X-WR-CALNAME:Focales
X-ORIGINAL-URL:https://focales.org/premiere-annee-en-presence-de-thomas-lilti/
X-WR-CALDESC:PREMIERE ANNEE EN PRESENCE DE THOMAS LILTI
BEGIN:VEVENT
DTSTART:20180622T200000
DTEND:20180622T223000
SUMMARY:PREMIERE ANNEE EN PRESENCE DE THOMAS LILTI
DESCRIPTION:
LOCATION:Ciné Capitole, 32 Place de Jaude, 63000 Clermont-Ferrand
END:VEVENT
END:VCALENDAR
