BEGIN:VCALENDAR
VERSION:2.0
PRODID:-//Focales
CALSCALE:GREGORIAN
METHOD:PUBLISH
X-WR-CALNAME:Focales
X-ORIGINAL-URL:https://focales.org/le-cerveau-des-enfants-en-presence-de-stephanie-brillant/
X-WR-CALDESC:LE CERVEAU DES ENFANTS EN PRESENCE DE STEPHANIE BRILLANT
BEGIN:VEVENT
DTSTART:20180530T200000
DTEND:20180530T230000
SUMMARY:LE CERVEAU DES ENFANTS EN PRESENCE DE STEPHANIE BRILLANT
DESCRIPTION:
LOCATION:Cinéma Le Rio, 178 rue Sous les Vignes, 63100 Clermont-Ferrand
END:VEVENT
END:VCALENDAR
