BEGIN:VCALENDAR
VERSION:2.0
PRODID:-//Focales
CALSCALE:GREGORIAN
METHOD:PUBLISH
X-WR-CALNAME:Focales
X-ORIGINAL-URL:https://focales.org/college-au-cinema-au-revoir-les-enfants/
X-WR-CALDESC:COLLEGE AU CINEMA &#8211; AU REVOIR LES ENFANTS
BEGIN:VEVENT
DTSTART:20190115T090000
DTEND:20190115T180000
SUMMARY:COLLEGE AU CINEMA &#8211; AU REVOIR LES ENFANTS
DESCRIPTION:
LOCATION:Ciné-Dyke, 4 Place Michelet, 43000 Le Puy-en-Velay
END:VEVENT
END:VCALENDAR
