BEGIN:VCALENDAR
VERSION:2.0
PRODID:-//Focales
CALSCALE:GREGORIAN
METHOD:PUBLISH
X-WR-CALNAME:Focales
X-ORIGINAL-URL:https://focales.org/plein-air-un-sac-de-billes/
X-WR-CALDESC:PLEIN AIR &#8211; UN SAC DE BILLES
BEGIN:VEVENT
DTSTART:20180629T213000
DTEND:20180629T000000
SUMMARY:PLEIN AIR &#8211; UN SAC DE BILLES
DESCRIPTION:
LOCATION:parc helitas, 15000 Aurillac
END:VEVENT
END:VCALENDAR
