BEGIN:VCALENDAR
VERSION:2.0
PRODID:-//Focales
CALSCALE:GREGORIAN
METHOD:PUBLISH
X-WR-CALNAME:Focales
X-ORIGINAL-URL:https://focales.org/plein-air-moi-moche-et-mechant-3/
X-WR-CALDESC:PLEIN AIR &#8211; MOI, MOCHE ET MÉCHANT 3
BEGIN:VEVENT
DTSTART:20180706T220000
DTEND:20180706T234500
SUMMARY:PLEIN AIR &#8211; MOI, MOCHE ET MÉCHANT 3
DESCRIPTION:
LOCATION:https://www.google.fr/maps/place/Rue+de+la+Fontaine+du+Bac,+63000+Clermont-Ferrand/@45.764702,3.1179893,17z/data=!3m1!4b1!4m5!3m4!1s0x47f71c6b7210e6bf:0x16f60f556363a3cb!8m2!3d45.764702!4d3.120178
END:VEVENT
END:VCALENDAR
