BEGIN:VCALENDAR
VERSION:2.0
PRODID:-//Focales
CALSCALE:GREGORIAN
METHOD:PUBLISH
X-WR-CALNAME:Focales
X-ORIGINAL-URL:https://focales.org/plein-air-la-vache-4-2/
X-WR-CALDESC:PLEIN AIR &#8211; LA VACHE
BEGIN:VEVENT
DTSTART:20180711T220000
DTEND:20180711T234500
SUMMARY:PLEIN AIR &#8211; LA VACHE
DESCRIPTION:
LOCATION:avenue des isles, 03000 avermes
END:VEVENT
END:VCALENDAR
