BEGIN:VCALENDAR
VERSION:2.0
PRODID:-//Focales
CALSCALE:GREGORIAN
METHOD:PUBLISH
X-WR-CALNAME:Focales
X-ORIGINAL-URL:https://focales.org/plein-air-lascension/
X-WR-CALDESC:PLEIN AIR &#8211; L&rsquo;ASCENSION
BEGIN:VEVENT
DTSTART:20180716T221500
DTEND:20180716T234500
SUMMARY:PLEIN AIR &#8211; L&rsquo;ASCENSION
DESCRIPTION:
LOCATION:Place Jean Dormoy 03100 Montluçon
END:VEVENT
END:VCALENDAR
