BEGIN:VCALENDAR
VERSION:2.0
PRODID:-//Focales
CALSCALE:GREGORIAN
METHOD:PUBLISH
X-WR-CALNAME:Focales
X-ORIGINAL-URL:https://focales.org/plein-air-ma-vie-de-courgette/
X-WR-CALDESC:PLEIN AIR &#8211; MA VIE DE COURGETTE
BEGIN:VEVENT
DTSTART:20180720T214500
DTEND:20180720T234500
SUMMARY:PLEIN AIR &#8211; MA VIE DE COURGETTE
DESCRIPTION:
LOCATION:33 rue du château des vergnes, 63100 Clermont-Ferrand
END:VEVENT
END:VCALENDAR
